BEGIN:VCALENDAR
VERSION:2.0
PRODID:-//ChamberMaster//Event Calendar 2.0//EN
METHOD:PUBLISH
X-PUBLISHED-TTL:P1H
REFRESH-INTERVAL:P1H
CALSCALE:GREGORIAN
BEGIN:VTIMEZONE
TZID:America/New_York
BEGIN:DAYLIGHT
RRULE:FREQ=YEARLY;BYMONTH=3;BYDAY=2SU
DTSTART:20070101T000000
TZOFFSETFROM:-0500
TZOFFSETTO:-0400
TZNAME:Eastern Daylight Time
END:DAYLIGHT
BEGIN:STANDARD
RRULE:FREQ=YEARLY;BYMONTH=11;BYDAY=1SU
DTSTART:20070101T000000
TZOFFSETFROM:-0400
TZOFFSETTO:-0500
TZNAME:Eastern Standard Time
END:STANDARD
END:VTIMEZONE
BEGIN:VEVENT
DTSTART;TZID=America/New_York:20260825T090000
DTEND;TZID=America/New_York:20260825T120000
X-MICROSOFT-CDO-ALLDAYEVENT:FALSE
SUMMARY:Amplify Your Mission: The Power of Nonprofit Advocacy (Northern KY)
DESCRIPTION:Engaging your elected officials on behalf of those you serve is as important a business strategy for your nonprofit as fundraising. In fact\, it's not only legally permitted for 501(c)(3) charitable nonprofits - it's expected that nonprofits effectively educate policymakers and amplify your mission for organizational success. And it doesn't have to be "one more thing " or intimidating.In this Kentucky Nonprofit Network workshop\, we help you embrace the critical role your organization plays in speaking up for your mission and those you serve. You'll learn:the critical role nonprofits must play in advocacy and education\;how your nonprofit can gain a seat at the table and ensure your voice and the voices of those you serve are heard to create a thriving community\;the best strategies for effectively connecting and building relationships with decision-makers\; andpractical tips and easy-to-use resources to get started or strengthen your advocacy work.Are you: Seeking greater impact for your nonprofit?Looking to build relationships with elected officials to increase your organization's government funding opportunities?Eager to identify simple action steps for elevating the voice and needs of your organization and those you serve?Ready to stand together with other nonprofits to ensure the needs of the community are being heard and met?Then invest in your mission and your organization's future   join Kentucky Nonprofit Network at this FREE\, in-person workshop. And bring a board member!Final times\, location\, and agenda coming soon!
X-ALT-DESC;FMTTYPE=text/html:<!DOCTYPE html><html><head><title></title></head><body aria-disabled="false"><div><p>Engaging your elected officials on behalf of those you serve is as important a business strategy for your nonprofit as fundraising. In fact\, it&rsquo\;s not only legally permitted for 501(c)(3) charitable nonprofits - it&rsquo\;s expected that nonprofits effectively educate policymakers and amplify your mission for organizational success. And it doesn&rsquo\;t have to be &ldquo\;one more thing&hellip\;&rdquo\; or intimidating.</p><p>In this Kentucky Nonprofit Network workshop\, we help you embrace the critical role your organization plays in speaking up for your mission and those you serve. You&rsquo\;ll learn:</p><ul fr-original-style="" style="list-style-position: inside\;"><li>the critical role nonprofits must play in advocacy and education\;</li><li>how your nonprofit can gain a seat at the table and ensure your voice and the voices of those you serve are heard to create a thriving community\;</li><li>the best strategies for effectively connecting and building relationships with decision-makers\; and</li><li>practical tips and easy-to-use resources to get started or strengthen your advocacy work.</li></ul><p><strong fr-original-style="" style="font-weight: 700\;">Are you:&nbsp\;</strong></p><ul fr-original-style="" style="list-style-position: inside\;"><li>Seeking greater impact for your nonprofit?</li><li>Looking to build relationships with elected officials to increase your organization&rsquo\;s government funding opportunities?</li><li>Eager to identify simple action steps for elevating the voice and needs of your organization and those you serve?</li><li>Ready to stand together with other nonprofits to ensure the needs of the community are being heard and met?</li></ul><p>Then invest in your mission and your organization&rsquo\;s future &ndash\; join Kentucky Nonprofit Network at this FREE\, in-person workshop. And bring a board member!</p><p><strong fr-original-style="" style="font-weight: 700\;">Final times\, location\, and agenda coming soon!&nbsp\;</strong></p></div></body></html>
LOCATION:KY
UID:e.1202.1449321
SEQUENCE:3
DTSTAMP:20260425T200949Z
URL:https://members.kynonprofits.org/eventsv2/Details/amplify-your-mission-the-power-of-nonprofit-advocacy-northern-ky-1716755?sourceTypeId=Hub
END:VEVENT
END:VCALENDAR
